BEGIN:VCALENDAR
VERSION:2.0
PRODID:-//hacksw/handcal//NONSGML v1.0//EN
BEGIN:VEVENT
SUMMARY:TAISO - L'UNION
UID:5ab53ba0-5e0d-4a06-a2cc-da1bd3e9d296
DTSTART:20260422T183000Z
DTEND:20260422T194500Z
LOCATION:Localisation Rue du Puy de Sancy Stade G, BEYNEY, 31240 L'Union  
CATEGORIES:Sportif
STATUS:
DESCRIPTION:<p><span style="color:#000000;"><strong>LA SECTION DE
 L'UNION VOUS ACCEUILLE - REJOIGNEZ LES NOMBREUX POUR L'OCCASION
 </strong></span></p>
URL;VALUE=URI:https://www.atmospherejudotoulouse.fr/evenements/2026/04/22/taiso-lunion-2432968
END:VEVENT
END:VCALENDAR
